{"text_format":"1","workbook":"xlsx","n_sheets":3,"sheets":["Foglio1","Foglio2","Foglio3"],"not_rendered":{"charts":0,"images":8,"macros":1,"external_links":0,"defined_names":2,"comments":1,"pivot_tables":0},"unopened":[],"bounds":{"document_bytes":16777216,"sheet_cells":100000,"rows_first":2000,"rows_last":500,"rows_between":2000,"halvings":0,"cell_chars":16384,"cell_head_chars":4096},"cells_cut":0,"cells_raw":0,"read":"whole","date_system":"1900"}

{"sheet":"Foglio1","index":0,"n_rows":35,"n_cols":36,"rows_kept":35,"cut":false,"hidden":false,"merged":[[0,0,9,31],[23,12,23,19],[10,0,19,31],[20,0,27,11],[20,20,27,31],[25,12,26,19],[27,15,27,16],[31,26,31,31],[29,29,30,31],[29,0,30,2],[28,29,28,31],[28,0,28,2],[28,3,30,5],[28,26,30,28],[29,6,31,6],[29,25,31,25],[31,0,31,5],[28,7,31,14],[28,17,31,24],[28,15,31,16]]}
[{"$f":"AJ4","v":0}]
[null,null,null,null,null,null,null,null,null,null,null,null,null,null,null,null,null,null,null,null,null,null,null,null,null,null,null,null,null,null,null,null,null,"00:00:00",{"$f":"AH2","v":"00:00:00"},{"$f":"AH2","v":"00:00:00"}]
[]
[null,null,null,null,null,null,null,null,null,null,null,null,null,null,null,null,null,null,null,null,null,null,null,null,null,null,null,null,null,null,null,null,null,"AO/AKA"]
[]
[null,null,null,null,null,null,null,null,null,null,null,null,null,null,null,null,null,null,null,null,null,null,null,null,null,null,null,null,null,null,null,null,null,"PENALITA'"]
[]
[]
[]
[]
[{"$f":"AI4","v":0}]
[]
[]
[]
[]
[]
[]
[]
[]
[]
[{"$f":"SUM(AI2+(D29/86400))","v":"00:00:00"},null,null,null,null,null,null,null,null,null,null,null,null,null,null,null,null,null,null,null,{"$f":"SUM(AJ2+(AA29/86400))","v":"00:00:00"}]
[]
[]
[null,null,null,null,null,null,null,null,null,null,null,null,"COGNOME E NOME"]
[]
[null,null,null,null,null,null,null,null,null,null,null,null,{"$f":"Foglio2!C24","v":"\\"}]
[]
[null,null,null,null,null,null,null,null,null,null,null,null,null,null,null,{"$f":"AH2","v":"00:00:00"}]
[{"$f":"IF(E34=AB34,\"\",E34)","v":""},null,null,{"$f":"AI6","v":0},null,null,null,null,null,null,null,null,null,null,null,null,null,null,null,null,null,null,null,null,null,null,{"$f":"AJ6","v":0},null,null,{"$f":"IF(AB34=E34,\"\",AB34)","v":""}]
[{"$f":"AI2","v":"00:00:00"},null,null,null,null,null,null,null,null,null,null,null,null,null,null,null,null,null,null,null,null,null,null,null,null,null,null,null,null,{"$f":"AJ2","v":"00:00:00"}]
[]
["Tempo/Penalità",null,null,null,null,null,null,null,null,null,null,null,null,null,null,null,null,null,null,null,null,null,null,null,null,null,"Penalità/Tempo"]
[]
[null,null,null,null,{"$f":"IF(A21=U21,IF(G34<=Z34,\"Vincitore\",\"Sconfitto\"),IF(A21<U21,\"Vincitore\",\"Sconfitto\"))","v":"Vincitore"},null,{"$f":"D29/86400","v":"00:00:00"},null,null,null,null,null,null,null,{"$f":"A1","v":0},{"$f":"AD30","v":"00:00:00"},{"$f":"AA29/86400","v":"00:00:00"},{"$f":"U21","v":"00:00:00"},null,null,null,null,null,null,null,{"$f":"AA29/86400","v":"00:00:00"},null,{"$f":"IF(U21=A21,IF(Z34<=G34,\"Vincitore\",\"Sconfitto\"),IF(U21<A21,\"Vincitore\",\"Sconfitto\"))","v":"Vincitore"}]
[null,null,null,null,null,null,null,null,null,null,null,null,null,null,{"$f":"A11","v":0},{"$f":"A30","v":"00:00:00"},{"$f":"D29/86400","v":"00:00:00"},{"$f":"A21","v":"00:00:00"}]

{"sheet":"Foglio2","index":1,"n_rows":38,"n_cols":22,"rows_kept":38,"cut":false,"hidden":false,"merged":[[26,0,26,13],[16,6,17,6],[21,2,21,10],[22,2,22,10],[23,2,23,10],[0,11,2,12],[0,1,2,5],[4,6,5,6],[6,6,7,6],[8,6,9,6],[10,6,11,6],[12,6,13,6],[14,6,15,6],[6,5,7,5],[8,5,9,5],[19,2,19,11],[504,5,505,5],[78,5,79,5],[60,5,61,5],[62,5,63,5],[64,5,65,5],[66,5,67,5],[68,5,69,5],[10,5,11,5],[34,5,35,5],[36,5,37,5],[70,5,71,5],[90,5,91,5],[92,5,93,5],[94,5,95,5],[96,5,97,5],[98,5,99,5],[82,5,83,5],[84,5,85,5],[86,5,87,5],[88,5,89,5],[108,5,109,5],[110,5,111,5],[112,5,113,5],[114,5,115,5],[514,5,515,5],[4,5,5,5],[12,5,13,5],[14,5,15,5],[16,5,17,5],[38,5,39,5],[50,5,51,5],[52,5,53,5],[54,5,55,5],[56,5,57,5],[58,5,59,5],[40,5,41,5],[42,5,43,5],[44,5,45,5],[46,5,47,5],[48,5,49,5],[72,5,73,5],[74,5,75,5],[76,5,77,5],[80,5,81,5],[100,5,101,5],[102,5,103,5],[104,5,105,5],[106,5,107,5],[506,5,507,5],[508,5,509,5],[510,5,511,5],[512,5,513,5],[120,5,121,5],[122,5,123,5],[124,5,125,5],[126,5,127,5],[128,5,129,5],[160,5,161,5],[162,5,163,5],[164,5,165,5],[166,5,167,5],[168,5,169,5],[150,5,151,5],[152,5,153,5],[154,5,155,5],[156,5,157,5],[158,5,159,5],[180,5,181,5],[182,5,183,5],[184,5,185,5],[186,5,187,5],[188,5,189,5],[116,5,117,5],[118,5,119,5],[140,5,141,5],[142,5,143,5],[144,5,145,5],[146,5,147,5],[148,5,149,5],[130,5,131,5],[132,5,133,5],[134,5,135,5],[136,5,137,5],[138,5,139,5],[170,5,171,5],[172,5,173,5],[174,5,175,5],[176,5,177,5],[178,5,179,5],[200,5,201,5],[202,5,203,5],[204,5,205,5],[206,5,207,5],[208,5,209,5],[190,5,191,5],[192,5,193,5],[194,5,195,5],[196,5,197,5],[198,5,199,5],[220,5,221,5],[222,5,223,5],[224,5,225,5],[260,5,261,5],[226,5,227,5],[228,5,229,5],[210,5,211,5],[212,5,213,5],[214,5,215,5],[216,5,217,5],[218,5,219,5],[240,5,241,5],[242,5,243,5],[250,5,251,5],[252,5,253,5],[254,5,255,5],[256,5,257,5],[258,5,259,5],[244,5,245,5],[246,5,247,5],[248,5,249,5],[230,5,231,5],[232,5,233,5],[234,5,235,5],[236,5,237,5],[238,5,239,5],[270,5,271,5],[272,5,273,5],[274,5,275,5],[276,5,277,5],[278,5,279,5],[262,5,263,5],[264,5,265,5],[266,5,267,5],[268,5,269,5],[290,5,291,5],[292,5,293,5],[294,5,295,5],[296,5,297,5],[298,5,299,5],[280,5,281,5],[282,5,283,5],[284,5,285,5],[286,5,287,5],[288,5,289,5],[310,5,311,5],[312,5,313,5],[314,5,315,5],[316,5,317,5],[318,5,319,5],[300,5,301,5],[302,5,303,5],[304,5,305,5],[306,5,307,5],[308,5,309,5],[330,5,331,5],[332,5,333,5],[334,5,335,5],[336,5,337,5],[338,5,339,5],[320,5,321,5],[322,5,323,5],[324,5,325,5],[326,5,327,5],[328,5,329,5],[350,5,351,5],[352,5,353,5],[354,5,355,5],[356,5,357,5],[358,5,359,5],[340,5,341,5],[342,5,343,5],[344,5,345,5],[346,5,347,5],[348,5,349,5],[370,5,371,5],[372,5,373,5],[374,5,375,5],[376,5,377,5],[378,5,379,5],[360,5,361,5],[362,5,363,5],[364,5,365,5],[366,5,367,5],[368,5,369,5],[410,5,411,5],[412,5,413,5],[414,5,415,5],[416,5,417,5],[418,5,419,5],[430,5,431,5],[432,5,433,5],[380,5,381,5],[382,5,383,5],[384,5,385,5],[386,5,387,5],[388,5,389,5],[400,5,401,5],[402,5,403,5],[404,5,405,5],[406,5,407,5],[408,5,409,5],[390,5,391,5],[392,5,393,5],[394,5,395,5],[396,5,397,5],[398,5,399,5],[500,5,501,5],[502,5,503,5],[490,5,491,5],[492,5,493,5],[494,5,495,5],[496,5,497,5],[498,5,499,5],[480,5,481,5],[482,5,483,5],[484,5,485,5],[486,5,487,5],[488,5,489,5],[472,5,473,5],[474,5,475,5],[476,5,477,5],[478,5,479,5],[460,5,461,5],[462,5,463,5],[464,5,465,5],[466,5,467,5],[468,5,469,5],[440,5,441,5],[442,5,443,5],[420,5,421,5],[422,5,423,5],[424,5,425,5],[444,5,445,5],[446,5,447,5],[448,5,449,5],[470,5,471,5],[450,5,451,5],[452,5,453,5],[454,5,455,5],[456,5,457,5],[458,5,459,5],[434,5,435,5],[436,5,437,5],[438,5,439,5],[426,5,427,5],[428,5,429,5]]}
[null,"RISULTATO AUTOMATIZZATO",null,null,null,null,null,null,null,null,null,"ELENCO CATEGORIA"]
[]
[]
["Incontro","Atleti","Tempo","Penalità","Totale","Vincitore",null,null,null,null,null,"Cognome e Nome","Società Sportiva"]
[1,null,null,null,null,{"$f":"IF(E5=E6,IF(D5<=D6,B5,B6),IF(E5<E6,B5,B6))","v":0},{"$f":"IFERROR(VLOOKUP(F5,L5:M12,2,FALSE),\"\")","v":""},null,null,null,1,null,null,null,{"$f":"L$5","v":0},{"$f":"L$6","v":0},{"$f":"L$7","v":0},{"$f":"L$8","v":0},{"$f":"L$9","v":0},{"$f":"L$10","v":0},{"$f":"L$11","v":0},{"$f":"L$12","v":0}]
[5,null,null,null,null,null,null,null,null,null,2,null,null,null,{"$f":"L$5","v":0},{"$f":"L$6","v":0},{"$f":"L$7","v":0},{"$f":"L$8","v":0},{"$f":"L$9","v":0},{"$f":"L$10","v":0},{"$f":"L$11","v":0},{"$f":"L$12","v":0}]
[3,null,null,null,null,{"$f":"IF(E7=E8,IF(D7<=D8,B7,B8),IF(E7<E8,B7,B8))","v":0},{"$f":"IFERROR(VLOOKUP(F7,L5:M12,2,FALSE),\"\")","v":""},null,null,null,3,null,null,null,0,0,0,0,0,0,0,0]
[7,null,null,null,null,null,null,null,null,null,4,null,null,null,0,0,0,0,0,0,0,0]
[2,null,null,null,null,{"$f":"IF(E9=E10,IF(D9<=D10,B9,B10),IF(E9<E10,B9,B10))","v":0},{"$f":"IFERROR(VLOOKUP(F9,L5:M12,2,FALSE),\"\")","v":""},null,null,null,5,null,null,null,0,0,0,0,0,0,0,0]
[6,null,null,null,null,null,null,null,null,null,6,null,null,null,0,0,0,0,0,0,0,0]
[4,null,null,null,null,{"$f":"IF(E11=E12,IF(D11<=D12,B11,B12),IF(E11<E12,B11,B12))","v":0},{"$f":"IFERROR(VLOOKUP(F11,L5:M12,2,FALSE),\"\")","v":""},null,null,null,7,null,null,null,0,0,0,0,0,0,0,0]
[8,null,null,null,null,null,null,null,null,null,8,null,null,null,0,0,0,0,0,0,0,0]
[1,null,null,null,null,{"$f":"IF(E13=E14,IF(D13<=D14,B13,B14),IF(E13<E14,B13,B14))","v":0},{"$f":"IFERROR(VLOOKUP(F13,L5:M12,2,FALSE),\"\")","v":""},null,null,null,null,null,null,null,0,0,0,0,0,0,0,0]
[3,null,null,null,null,null,null,null,null,null,null,null,null,null,0,0,0,0,0,0,0,0]
[2,null,null,null,null,{"$f":"IF(E15=E16,IF(D15<=D16,B15,B16),IF(E15<E16,B15,B16))","v":0},{"$f":"IFERROR(VLOOKUP(F15,L5:M12,2,FALSE),\"\")","v":""},null,null,null,null,null,null,null,0,0,0,0,0,0,0,0]
[4,null,null,null,null,null,null,null,null,null,null,null,null,null,0,0,0,0,0,0,0,0]
[1,null,null,null,null,{"$f":"IF(E17=E18,IF(D17<=D18,B17,B18),IF(E17<E18,B17,B18))","v":0},{"$f":"IFERROR(VLOOKUP(F17,L5:M12,2,FALSE),\"\")","v":""},null,null,null,null,null,null,null,0,0,0,0,0,0,0,0]
[2,null,null,null,null,null,null,null,null,null,null,null,null,null,0,0,0,0,0,0,0,0]
[]
[null,null,"Riferimenti Relativi"]
[]
[null,"DENOMINAZIONE GARA:","\\",null,null,null,null,null,null,null,null,null,"UFFICIALI DI GARA:"]
[null,"LUOGO E DATA:","\\",null,null,null,null,null,null,null,null,1,"\\"]
[null,"SPECIALITA'/CATEGORIA:","\\",null,null,null,null,null,null,null,null,2,"\\"]
[null,"TABELLONE GARA:",null,null,null,null,null,null,null,null,null,3,"\\"]
[]
["N.B.:  Rimuovere la protezione dal foglio per redigere il tabellone o fare correzioni, riposizionare il cursore nella cella della colonna \"Atleti\" in corrispondenza del numero d'incontro di colore rosso. Proteggi foglio."]
[]
[null,"SEMES"]
[null,"BIS"]
[null,"TER"]
[null,"QUATER"]
[null,"QUINQUIES"]
[null,"SEXIES"]
[null,"SEPTIES"]
[null,"OCTIES"]
[null,"NOVIES"]
[null,"DECIES"]

{"sheet":"Foglio3","index":2,"n_rows":52,"n_cols":26,"rows_kept":52,"cut":false,"hidden":false,"merged":[[22,19,22,22],[14,7,14,11],[18,7,18,11],[12,18,19,18],[20,13,23,17],[41,3,42,3],[37,3,38,3],[12,4,27,4],[33,3,34,3],[21,5,22,5],[25,5,26,5],[29,5,30,5],[13,3,14,3],[17,3,18,3],[21,3,22,3],[25,3,26,3],[29,3,30,3],[28,4,43,4],[37,5,38,5],[41,5,42,5],[13,5,14,5],[44,4,45,22],[46,4,46,22],[47,4,52,22],[46,24,47,28],[48,24,49,28],[50,24,51,28],[44,23,45,29],[28,25,28,29],[38,7,38,11],[12,24,27,24],[38,19,38,22],[37,7,37,11],[21,7,21,11],[20,19,21,23],[20,18,35,18],[18,13,18,16],[20,7,20,10],[28,19,35,23],[30,7,30,11],[32,7,32,10],[36,13,39,17],[24,12,27,12],[34,7,34,11],[36,19,37,23],[40,7,40,10],[41,7,41,11],[33,5,34,5],[12,19,19,23],[40,13,41,17],[24,7,24,10],[28,7,28,10],[26,7,26,11],[32,12,39,12],[32,13,33,17],[36,7,36,10],[33,7,33,11],[34,13,34,16],[25,7,25,11],[12,12,15,12],[42,13,42,16],[28,13,31,17],[24,13,25,17],[22,7,22,11],[42,6,43,6],[26,6,27,6],[42,7,42,11],[29,7,29,11],[26,13,26,16],[28,12,31,12],[12,25,27,29],[10,24,11,29],[2,4,2,9],[10,12,11,17],[8,18,8,20],[8,4,8,8],[8,9,8,17],[8,21,8,29],[13,7,13,11],[17,7,17,11],[12,13,15,17],[16,12,23,12],[16,13,17,17],[17,5,18,5],[10,18,11,23],[16,7,16,10],[1,11,2,21],[3,11,4,21],[10,4,11,5],[10,6,11,11],[1,24,3,29]]}
[]
[null,null,null,null," ",null,null,null,null,null,null,"TABELLONE GARA",null,null,null,null,null,null,null,null,null,null,null,null,{"$f":"Foglio2!C25","v":0}]
[0,"5°",null,null,"FEDERAZIONE ITALIANA KARATE"]
[1,"3°",null,null,null,null,null,null,null,null,null,"Specialità/Categoria"]
[2,"2°"]
[3,"1°",null,null,null,null,null,null,null,null,null,null,null,null,null,null,{"$f":"Foglio2!C24","v":"\\"}]
[7,"5°"]
[]
[null,null,null,null,"DENOMINAZIONE GARA:",null,null,null,null,{"$f":"Foglio2!C22","v":"\\"},null,null,null,null,null,null,null,null,"LUOGO E DATA:",null,null,{"$f":"Foglio2!C23","v":"\\"}]
[]
[{"$f":"Foglio2!F5","v":0},null,null,null,"Class.",null,"COGNOME E NOME - SOCIETA' SPORTIVA",null,null,null,null,null,"\"SEMIFINALE\" ",null,null,null,null,null,"\"FINALE\" ",null,null,null,null,null,"VINCITORE"]
[{"$f":"Foglio2!F7","v":0}]
[{"$f":"Foglio2!F9","v":0},null,null,null,"G R U P P O  \"A\"",null,null,null,null,null,null,null,1,{"$f":"Foglio2!F5","v":0},null,null,null,null,1,{"$f":"Foglio2!F13","v":0},null,null,null,null,1,{"$f":"Foglio2!F17","v":0}]
[{"$f":"Foglio2!F11","v":0},null,null,{"$f":"COUNTIF(A11:A17,H14)","v":7},null,{"$f":"VLOOKUP(D14,A3:B7,2)","v":"5°"},1,{"$f":"Foglio2!L5","v":0}]
[{"$f":"Foglio2!F13","v":0},null,null,null,null,null,null,{"$f":"Foglio2!M5","v":0}]
[{"$f":"Foglio2!F15","v":0}]
[{"$f":"Foglio2!F17","v":0},null,null,null,null,null,null,null,null,null,null,null,3,{"$f":"Foglio2!G5","v":""}]
[null,null,null,{"$f":"COUNTIF(A11:A17,H18)","v":7},null,{"$f":"VLOOKUP(D18,A3:B7,2)","v":"5°"},5,{"$f":"Foglio2!L9","v":0}]
[null,null,null,null,null,null,null,{"$f":"Foglio2!M9","v":0}]
[]
[null,null,null,null,null,null,null,null,null,null,null,null,null,{"$f":"Foglio2!F7","v":0},null,null,null,null,2,{"$f":"Foglio2!G13","v":""}]
[null,null,null,{"$f":"COUNTIF(A11:A17,H22)","v":7},null,{"$f":"VLOOKUP(D22,A3:B7,2)","v":"5°"},3,{"$f":"Foglio2!L7","v":0}]
[null,null,null,null,null,null,null,{"$f":"Foglio2!M7","v":0}]
[]
[null,null,null,null,null,null,null,null,null,null,null,null,null,{"$f":"Foglio2!G7","v":""}]
[null,null,null,{"$f":"COUNTIF(A11:A17,H26)","v":7},null,{"$f":"VLOOKUP(D26,A3:B7,2)","v":"5°"},7,{"$f":"Foglio2!L11","v":0}]
[null,null,null,null,null,null,null,{"$f":"Foglio2!M11","v":0}]
[]
[null,null,null,null,"G R U P P O  \"B\"",null,null,null,null,null,null,null,2,{"$f":"Foglio2!F9","v":0},null,null,null,null,null,{"$f":"Foglio2!F15","v":0},null,null,null,null,null,{"$f":"Foglio2!G17","v":""}]
[null,null,null,{"$f":"COUNTIF(A11:A17,H30)","v":7},null,{"$f":"VLOOKUP(D30,A3:B7,2)","v":"5°"},2,{"$f":"Foglio2!L6","v":0}]
[null,null,null,null,null,null,null,{"$f":"Foglio2!M6","v":0}]
[]
[null,null,null,null,null,null,null,null,null,null,null,null,4,{"$f":"Foglio2!G9","v":""}]
[null,null,null,{"$f":"COUNTIF(A11:A17,H34)","v":7},null,{"$f":"VLOOKUP(D34,A3:B7,2)","v":"5°"},6,{"$f":"Foglio2!L10","v":0}]
[null,null,null,null,null,null,null,{"$f":"Foglio2!M10","v":0}]
[]
[null,null,null,null,null,null,null,null,null,null,null,null,null,{"$f":"Foglio2!F11","v":0},null,null,null,null,null,{"$f":"Foglio2!G15","v":""}]
[null,null,null,{"$f":"COUNTIF(A11:A17,H38)","v":7},null,{"$f":"VLOOKUP(D38,A3:B7,2)","v":"5°"},4,{"$f":"Foglio2!L8","v":0}]
[null,null,null,null,null,null,null,{"$f":"Foglio2!M8","v":0}]
[]
[null,null,null,null,null,null,null,null,null,null,null,null,null,{"$f":"Foglio2!G11","v":""}]
[null,null,null,{"$f":"COUNTIF(A11:A17,H42)","v":7},null,{"$f":"VLOOKUP(D42,A3:B7,2)","v":"5°"},8,{"$f":"Foglio2!L12","v":0}]
[null,null,null,null,null,null,null,{"$f":"Foglio2!M12","v":0}]
[]
[null,null,null,null,"NORME PER LA CLASSIFICA ",null,null,null,null,null,null,null,null,null,null,null,null,null,null,null,null,null,null,"GLI UFFICIALI DI GARA"]
[]
[null,null,null,null,"Per completare la classifica delle gare ad eliminazione diretta senza recupero si seguono i seguenti criteri:",null,null,null,null,null,null,null,null,null,null,null,null,null,null,null,null,null,null,null,{"$f":"Foglio2!M23","v":"\\"}]
[null,null,null,null," ●   al 1° posto sarà classificato il vincitore della Finale;\n ●   al 2° posto sarà classificato lo sconfitto della Finale;\n ●   ai 3i posti saranno classificati ex aequo i vincitori della Semifinale di gruppo;\n ●   ai 5i posti saranno classificati ex aequo gli sconfitti della Semifinale di gruppo. ",null,null,null,null,null,null,null,null,null,null,null,null,null,null,null,null,null,null,1]
[null,null,null,null,null,null,null,null,null,null,null,null,null,null,null,null,null,null,null,null,null,null,null,null,{"$f":"Foglio2!M24","v":"\\"}]
[null,null,null,null,null,null,null,null,null,null,null,null,null,null,null,null,null,null,null,null,null,null,null,2]
[null,null,null,null,null,null,null,null,null,null,null,null,null,null,null,null,null,null,null,null,null,null,null,null,{"$f":"Foglio2!M25","v":"\\"}]
[null,null,null,null,null,null,null,null,null,null,null,null,null,null,null,null,null,null,null,null,null,null,null,3]